BEGIN:VCALENDAR
VERSION:2.0
PRODID:-//Daredevil  | Indianapolis | Speedway - ECPv6.15.20//NONSGML v1.0//EN
CALSCALE:GREGORIAN
METHOD:PUBLISH
X-ORIGINAL-URL:https://daredevilbeer.com
X-WR-CALDESC:Events for Daredevil  | Indianapolis | Speedway
REFRESH-INTERVAL;VALUE=DURATION:PT1H
X-Robots-Tag:noindex
X-PUBLISHED-TTL:PT1H
BEGIN:VTIMEZONE
TZID:America/Indiana/Indianapolis
BEGIN:DAYLIGHT
TZOFFSETFROM:-0500
TZOFFSETTO:-0400
TZNAME:EDT
DTSTART:20240310T070000
END:DAYLIGHT
BEGIN:STANDARD
TZOFFSETFROM:-0400
TZOFFSETTO:-0500
TZNAME:EST
DTSTART:20241103T060000
END:STANDARD
BEGIN:DAYLIGHT
TZOFFSETFROM:-0500
TZOFFSETTO:-0400
TZNAME:EDT
DTSTART:20250309T070000
END:DAYLIGHT
BEGIN:STANDARD
TZOFFSETFROM:-0400
TZOFFSETTO:-0500
TZNAME:EST
DTSTART:20251102T060000
END:STANDARD
BEGIN:DAYLIGHT
TZOFFSETFROM:-0500
TZOFFSETTO:-0400
TZNAME:EDT
DTSTART:20260308T070000
END:DAYLIGHT
BEGIN:STANDARD
TZOFFSETFROM:-0400
TZOFFSETTO:-0500
TZNAME:EST
DTSTART:20261101T060000
END:STANDARD
END:VTIMEZONE
BEGIN:VEVENT
DTSTART;TZID=America/Indiana/Indianapolis:20251216T190000
DTEND;TZID=America/Indiana/Indianapolis:20251216T220000
DTSTAMP:20260421T082550
CREATED:20251129T235116Z
LAST-MODIFIED:20251214T001030Z
UID:14047-1765911600-1765922400@daredevilbeer.com
SUMMARY:🏒 Blackhawks @ Maple Leafs
DESCRIPTION:
URL:https://daredevilbeer.com/events-single-post-name/%f0%9f%8f%92-blackhawks-maple-leafs/
END:VEVENT
BEGIN:VEVENT
DTSTART;TZID=America/Indiana/Indianapolis:20251214T162500
DTEND;TZID=America/Indiana/Indianapolis:20251214T192500
DTSTAMP:20260421T082550
CREATED:20251108T232128Z
LAST-MODIFIED:20251214T001030Z
UID:14024-1765729500-1765740300@daredevilbeer.com
SUMMARY:🏈 Colts @ Seahawks
DESCRIPTION:
URL:https://daredevilbeer.com/events-single-post-name/%f0%9f%8f%88-colts-seahawks/
END:VEVENT
BEGIN:VEVENT
DTSTART;TZID=America/Indiana/Indianapolis:20251214T130000
DTEND;TZID=America/Indiana/Indianapolis:20251214T160000
DTSTAMP:20260421T082550
CREATED:20251108T232127Z
LAST-MODIFIED:20251214T001030Z
UID:14023-1765717200-1765728000@daredevilbeer.com
SUMMARY:🏈 Browns @ Bears
DESCRIPTION:
URL:https://daredevilbeer.com/events-single-post-name/%f0%9f%8f%88-browns-bears/
END:VEVENT
BEGIN:VEVENT
DTSTART;TZID=America/Indiana/Indianapolis:20251213T200000
DTEND;TZID=America/Indiana/Indianapolis:20251213T230000
DTSTAMP:20260421T082550
CREATED:20251129T235101Z
LAST-MODIFIED:20251214T001029Z
UID:14046-1765656000-1765666800@daredevilbeer.com
SUMMARY:🏒 Red Wings @ Blackhawks
DESCRIPTION:
URL:https://daredevilbeer.com/events-single-post-name/%f0%9f%8f%92-red-wings-blackhawks/
END:VEVENT
BEGIN:VEVENT
DTSTART;TZID=America/Indiana/Indianapolis:20251212T200000
DTEND;TZID=America/Indiana/Indianapolis:20251212T230000
DTSTAMP:20260421T082550
CREATED:20251129T235059Z
LAST-MODIFIED:20251207T000855Z
UID:14045-1765569600-1765580400@daredevilbeer.com
SUMMARY:🏒 Blackhawks @ Blues
DESCRIPTION:
URL:https://daredevilbeer.com/events-single-post-name/%f0%9f%8f%92-blackhawks-blues/
END:VEVENT
BEGIN:VEVENT
DTSTART;TZID=America/Indiana/Indianapolis:20251210T193000
DTEND;TZID=America/Indiana/Indianapolis:20251210T223000
DTSTAMP:20260421T082550
CREATED:20251129T235058Z
LAST-MODIFIED:20251207T000855Z
UID:14044-1765395000-1765405800@daredevilbeer.com
SUMMARY:🏒 Rangers @ Blackhawks
DESCRIPTION:
URL:https://daredevilbeer.com/events-single-post-name/%f0%9f%8f%92-rangers-blackhawks/
END:VEVENT
BEGIN:VEVENT
DTSTART;TZID=America/Indiana/Indianapolis:20251210T183000
DTEND;TZID=America/Indiana/Indianapolis:20251210T203000
DTSTAMP:20260421T082550
CREATED:20250308T171459Z
LAST-MODIFIED:20250308T171459Z
UID:13648-1765391400-1765398600@daredevilbeer.com
SUMMARY:Trivia (2nd & 4th Wed of Month)
DESCRIPTION:
URL:https://daredevilbeer.com/events-single-post-name/trivia-2nd-4th-wed-of-month-19/
END:VEVENT
BEGIN:VEVENT
DTSTART;TZID=America/Indiana/Indianapolis:20251207T130000
DTEND;TZID=America/Indiana/Indianapolis:20251207T160000
DTSTAMP:20260421T082550
CREATED:20251108T232125Z
LAST-MODIFIED:20251207T000855Z
UID:14022-1765112400-1765123200@daredevilbeer.com
SUMMARY:🏈 Colts @ Jaguars
DESCRIPTION:
URL:https://daredevilbeer.com/events-single-post-name/%f0%9f%8f%88-colts-jaguars/
END:VEVENT
BEGIN:VEVENT
DTSTART;TZID=America/Indiana/Indianapolis:20251207T130000
DTEND;TZID=America/Indiana/Indianapolis:20251207T160000
DTSTAMP:20260421T082550
CREATED:20251108T232124Z
LAST-MODIFIED:20251207T000854Z
UID:14021-1765112400-1765123200@daredevilbeer.com
SUMMARY:🏈 Bears @ Packers
DESCRIPTION:
URL:https://daredevilbeer.com/events-single-post-name/%f0%9f%8f%88-bears-packers/
END:VEVENT
BEGIN:VEVENT
DTSTART;TZID=America/Indiana/Indianapolis:20251205T200000
DTEND;TZID=America/Indiana/Indianapolis:20251205T223000
DTSTAMP:20260421T082550
CREATED:20251101T230712Z
LAST-MODIFIED:20251129T235554Z
UID:14009-1764964800-1764973800@daredevilbeer.com
SUMMARY:🏀 Pacers @ Bulls
DESCRIPTION:
URL:https://daredevilbeer.com/events-single-post-name/%f0%9f%8f%80-pacers-bulls/
END:VEVENT
BEGIN:VEVENT
DTSTART;TZID=America/Indiana/Indianapolis:20251203T190000
DTEND;TZID=America/Indiana/Indianapolis:20251203T213000
DTSTAMP:20260421T082550
CREATED:20251101T230710Z
LAST-MODIFIED:20251129T235554Z
UID:14008-1764788400-1764797400@daredevilbeer.com
SUMMARY:🏀 Nuggets @ Pacers
DESCRIPTION:
URL:https://daredevilbeer.com/events-single-post-name/%f0%9f%8f%80-nuggets-pacers/
END:VEVENT
BEGIN:VEVENT
DTSTART;TZID=America/Indiana/Indianapolis:20251130T153000
DTEND;TZID=America/Indiana/Indianapolis:20251130T183000
DTSTAMP:20260421T082550
CREATED:20251129T235056Z
LAST-MODIFIED:20251129T235553Z
UID:14043-1764516600-1764527400@daredevilbeer.com
SUMMARY:🏒 Ducks @ Blackhawks
DESCRIPTION:
URL:https://daredevilbeer.com/events-single-post-name/%f0%9f%8f%92-ducks-blackhawks/
END:VEVENT
BEGIN:VEVENT
DTSTART;TZID=America/Indiana/Indianapolis:20251130T130000
DTEND;TZID=America/Indiana/Indianapolis:20251130T160000
DTSTAMP:20260421T082550
CREATED:20251108T232112Z
LAST-MODIFIED:20251129T235553Z
UID:14020-1764507600-1764518400@daredevilbeer.com
SUMMARY:🏈 Texans @ Colts
DESCRIPTION:
URL:https://daredevilbeer.com/events-single-post-name/%f0%9f%8f%88-texans-colts/
END:VEVENT
BEGIN:VEVENT
DTSTART;TZID=America/Indiana/Indianapolis:20251129T193000
DTEND;TZID=America/Indiana/Indianapolis:20251129T220000
DTSTAMP:20260421T082550
CREATED:20251101T230709Z
LAST-MODIFIED:20251129T235553Z
UID:14007-1764444600-1764453600@daredevilbeer.com
SUMMARY:🏀 Bulls @ Pacers
DESCRIPTION:
URL:https://daredevilbeer.com/events-single-post-name/%f0%9f%8f%80-bulls-pacers/
END:VEVENT
BEGIN:VEVENT
DTSTART;TZID=America/Indiana/Indianapolis:20251128T193000
DTEND;TZID=America/Indiana/Indianapolis:20251128T220000
DTSTAMP:20260421T082550
CREATED:20251101T230655Z
LAST-MODIFIED:20251122T234221Z
UID:14006-1764358200-1764367200@daredevilbeer.com
SUMMARY:🏀 Wizards @ Pacers
DESCRIPTION:
URL:https://daredevilbeer.com/events-single-post-name/%f0%9f%8f%80-wizards-pacers/
END:VEVENT
BEGIN:VEVENT
DTSTART;TZID=America/Indiana/Indianapolis:20251128T150000
DTEND;TZID=America/Indiana/Indianapolis:20251128T180000
DTSTAMP:20260421T082550
CREATED:20251108T232110Z
LAST-MODIFIED:20251122T234220Z
UID:14019-1764342000-1764352800@daredevilbeer.com
SUMMARY:🏈 Bears @ Eagles
DESCRIPTION:
URL:https://daredevilbeer.com/events-single-post-name/%f0%9f%8f%88-bears-eagles/
END:VEVENT
BEGIN:VEVENT
DTSTART;TZID=America/Indiana/Indianapolis:20251126T193000
DTEND;TZID=America/Indiana/Indianapolis:20251126T220000
DTSTAMP:20260421T082550
CREATED:20251101T230653Z
LAST-MODIFIED:20251122T234220Z
UID:14005-1764185400-1764194400@daredevilbeer.com
SUMMARY:🏀 Pacers @ Raptors
DESCRIPTION:
URL:https://daredevilbeer.com/events-single-post-name/%f0%9f%8f%80-pacers-raptors/
END:VEVENT
BEGIN:VEVENT
DTSTART;TZID=America/Indiana/Indianapolis:20251126T183000
DTEND;TZID=America/Indiana/Indianapolis:20251126T203000
DTSTAMP:20260421T082550
CREATED:20250308T171458Z
LAST-MODIFIED:20250308T171458Z
UID:13647-1764181800-1764189000@daredevilbeer.com
SUMMARY:Trivia (2nd & 4th Wed of Month)
DESCRIPTION:
URL:https://daredevilbeer.com/events-single-post-name/trivia-2nd-4th-wed-of-month-18/
END:VEVENT
BEGIN:VEVENT
DTSTART;TZID=America/Indiana/Indianapolis:20251123T130000
DTEND;TZID=America/Indiana/Indianapolis:20251123T160000
DTSTAMP:20260421T082550
CREATED:20251101T230652Z
LAST-MODIFIED:20251122T234219Z
UID:14004-1763902800-1763913600@daredevilbeer.com
SUMMARY:🏈 Steelers @ Bears
DESCRIPTION:
URL:https://daredevilbeer.com/events-single-post-name/%f0%9f%8f%88-steelers-bears/
END:VEVENT
BEGIN:VEVENT
DTSTART;TZID=America/Indiana/Indianapolis:20251123T130000
DTEND;TZID=America/Indiana/Indianapolis:20251123T160000
DTSTAMP:20260421T082550
CREATED:20251101T230651Z
LAST-MODIFIED:20251122T234220Z
UID:14003-1763902800-1763913600@daredevilbeer.com
SUMMARY:🏈 Colts @ Chiefs
DESCRIPTION:
URL:https://daredevilbeer.com/events-single-post-name/%f0%9f%8f%88-colts-chiefs/
END:VEVENT
BEGIN:VEVENT
DTSTART;TZID=America/Indiana/Indianapolis:20251122T153000
DTEND;TZID=America/Indiana/Indianapolis:20251122T183000
DTSTAMP:20260421T082550
CREATED:20251101T230649Z
LAST-MODIFIED:20251115T233720Z
UID:14002-1763825400-1763836200@daredevilbeer.com
SUMMARY:🏈  Syracuse @ Notre Dame
DESCRIPTION:
URL:https://daredevilbeer.com/events-single-post-name/%f0%9f%8f%88-syracuse-notre-dame/
END:VEVENT
BEGIN:VEVENT
DTSTART;TZID=America/Indiana/Indianapolis:20251121T190000
DTEND;TZID=America/Indiana/Indianapolis:20251121T213000
DTSTAMP:20260421T082550
CREATED:20251101T230648Z
LAST-MODIFIED:20251115T233720Z
UID:14001-1763751600-1763760600@daredevilbeer.com
SUMMARY:🏀 Pacers @ Cavaliers
DESCRIPTION:
URL:https://daredevilbeer.com/events-single-post-name/%f0%9f%8f%80-pacers-cavaliers-2/
END:VEVENT
BEGIN:VEVENT
DTSTART;TZID=America/Indiana/Indianapolis:20251116T130000
DTEND;TZID=America/Indiana/Indianapolis:20251116T160000
DTSTAMP:20260421T082550
CREATED:20251101T230647Z
LAST-MODIFIED:20251115T233719Z
UID:14000-1763298000-1763308800@daredevilbeer.com
SUMMARY:🏈 Bears @ Vikings
DESCRIPTION:
URL:https://daredevilbeer.com/events-single-post-name/%f0%9f%8f%88-bears-vikings/
END:VEVENT
BEGIN:VEVENT
DTSTART;TZID=America/Indiana/Indianapolis:20251115T190000
DTEND;TZID=America/Indiana/Indianapolis:20251115T220000
DTSTAMP:20260421T082550
CREATED:20251108T232054Z
LAST-MODIFIED:20251115T233719Z
UID:14018-1763233200-1763244000@daredevilbeer.com
SUMMARY:🏈 Purdue @ Washington
DESCRIPTION:
URL:https://daredevilbeer.com/events-single-post-name/%f0%9f%8f%88-purdue-washington/
END:VEVENT
BEGIN:VEVENT
DTSTART;TZID=America/Indiana/Indianapolis:20251115T190000
DTEND;TZID=America/Indiana/Indianapolis:20251115T213000
DTSTAMP:20260421T082550
CREATED:20251101T230646Z
LAST-MODIFIED:20251115T233718Z
UID:13999-1763233200-1763242200@daredevilbeer.com
SUMMARY:🏀 Raptors @ Pacers
DESCRIPTION:
URL:https://daredevilbeer.com/events-single-post-name/%f0%9f%8f%80-raptors-pacers/
END:VEVENT
BEGIN:VEVENT
DTSTART;TZID=America/Indiana/Indianapolis:20251115T120000
DTEND;TZID=America/Indiana/Indianapolis:20251115T150000
DTSTAMP:20260421T082550
CREATED:20251108T232052Z
LAST-MODIFIED:20251108T232531Z
UID:14017-1763208000-1763218800@daredevilbeer.com
SUMMARY:🏈 Wisconsin @ Indiana
DESCRIPTION:
URL:https://daredevilbeer.com/events-single-post-name/%f0%9f%8f%88-wisconsin-indiana/
END:VEVENT
BEGIN:VEVENT
DTSTART;TZID=America/Indiana/Indianapolis:20251115T120000
DTEND;TZID=America/Indiana/Indianapolis:20251115T150000
DTSTAMP:20260421T082550
CREATED:20251108T232050Z
LAST-MODIFIED:20251108T232531Z
UID:14016-1763208000-1763218800@daredevilbeer.com
SUMMARY:🏈 Notre Dame @ Pittsburgh
DESCRIPTION:
URL:https://daredevilbeer.com/events-single-post-name/%f0%9f%8f%88-notre-dame-pittsburgh/
END:VEVENT
BEGIN:VEVENT
DTSTART;TZID=America/Indiana/Indianapolis:20251112T183000
DTEND;TZID=America/Indiana/Indianapolis:20251112T203000
DTSTAMP:20260421T082550
CREATED:20250308T171456Z
LAST-MODIFIED:20250308T171456Z
UID:13646-1762972200-1762979400@daredevilbeer.com
SUMMARY:Trivia (2nd & 4th Wed of Month)
DESCRIPTION:
URL:https://daredevilbeer.com/events-single-post-name/trivia-2nd-4th-wed-of-month-17/
END:VEVENT
BEGIN:VEVENT
DTSTART;TZID=America/Indiana/Indianapolis:20251109T203000
DTEND;TZID=America/Indiana/Indianapolis:20251109T230000
DTSTAMP:20260421T082550
CREATED:20251101T230645Z
LAST-MODIFIED:20251108T232531Z
UID:13998-1762720200-1762729200@daredevilbeer.com
SUMMARY:🏀 Pacers @ Warriors
DESCRIPTION:
URL:https://daredevilbeer.com/events-single-post-name/%f0%9f%8f%80-pacers-warriors/
END:VEVENT
BEGIN:VEVENT
DTSTART;TZID=America/Indiana/Indianapolis:20251109T130000
DTEND;TZID=America/Indiana/Indianapolis:20251109T160000
DTSTAMP:20260421T082550
CREATED:20250920T222214Z
LAST-MODIFIED:20251108T232530Z
UID:13936-1762693200-1762704000@daredevilbeer.com
SUMMARY:🏈 Giants @ Bears
DESCRIPTION:
URL:https://daredevilbeer.com/events-single-post-name/%f0%9f%8f%88-giants-bears/
END:VEVENT
END:VCALENDAR