BEGIN:VCALENDAR
VERSION:2.0
PRODID:-//Daredevil  | Indianapolis | Speedway - ECPv6.15.20//NONSGML v1.0//EN
CALSCALE:GREGORIAN
METHOD:PUBLISH
X-WR-CALNAME:Daredevil  | Indianapolis | Speedway
X-ORIGINAL-URL:https://daredevilbeer.com
X-WR-CALDESC:Events for Daredevil  | Indianapolis | Speedway
REFRESH-INTERVAL;VALUE=DURATION:PT1H
X-Robots-Tag:noindex
X-PUBLISHED-TTL:PT1H
BEGIN:VTIMEZONE
TZID:America/Indiana/Indianapolis
BEGIN:DAYLIGHT
TZOFFSETFROM:-0500
TZOFFSETTO:-0400
TZNAME:EDT
DTSTART:20240310T070000
END:DAYLIGHT
BEGIN:STANDARD
TZOFFSETFROM:-0400
TZOFFSETTO:-0500
TZNAME:EST
DTSTART:20241103T060000
END:STANDARD
BEGIN:DAYLIGHT
TZOFFSETFROM:-0500
TZOFFSETTO:-0400
TZNAME:EDT
DTSTART:20250309T070000
END:DAYLIGHT
BEGIN:STANDARD
TZOFFSETFROM:-0400
TZOFFSETTO:-0500
TZNAME:EST
DTSTART:20251102T060000
END:STANDARD
BEGIN:DAYLIGHT
TZOFFSETFROM:-0500
TZOFFSETTO:-0400
TZNAME:EDT
DTSTART:20260308T070000
END:DAYLIGHT
BEGIN:STANDARD
TZOFFSETFROM:-0400
TZOFFSETTO:-0500
TZNAME:EST
DTSTART:20261101T060000
END:STANDARD
BEGIN:DAYLIGHT
TZOFFSETFROM:-0500
TZOFFSETTO:-0400
TZNAME:EDT
DTSTART:20270314T070000
END:DAYLIGHT
BEGIN:STANDARD
TZOFFSETFROM:-0400
TZOFFSETTO:-0500
TZNAME:EST
DTSTART:20271107T060000
END:STANDARD
END:VTIMEZONE
BEGIN:VEVENT
DTSTART;TZID=America/Indiana/Indianapolis:20260107T151500
DTEND;TZID=America/Indiana/Indianapolis:20260107T171500
DTSTAMP:20260421T050316
CREATED:20260104T002102Z
LAST-MODIFIED:20260104T002830Z
UID:14091-1767798900-1767806100@daredevilbeer.com
SUMMARY:⚽️ Burnley v Manchester United
DESCRIPTION:Premier League Matchweek 21 | Follow the game on Matchday Live | #BURMUN\nWatch Live\nhttps://premlge.co/f/24MBw8/3mwkY\nMatchday Live\nhttps://premlge.co/f/VmB9Y/3mwkY\nBurnley Shop\nhttps://premlge.co/f/TzRlV/3mwkY\nFollow the Match on the Burnley App\nhttps://premlge.co/f/TzRmn/3mwkY\nManchester United Shop\nhttps://premlge.co/f/TzRmJ/3mwkY\nFollow the Match on the Manchester United App\nhttps://premlge.co/f/TzRn1/3mwkY\nManage my ECAL\nhttps://premlge.co/f/TzRpq/3mwkY
URL:https://daredevilbeer.com/events-single-post-name/%e2%9a%bd%ef%b8%8f-burnley-v-manchester-united/
LOCATION:Turf Moor\, Burnley
END:VEVENT
BEGIN:VEVENT
DTSTART;TZID=America/Indiana/Indianapolis:20260106T190000
DTEND;TZID=America/Indiana/Indianapolis:20260106T213000
DTSTAMP:20260421T050316
CREATED:20260104T002059Z
LAST-MODIFIED:20260104T002829Z
UID:14089-1767726000-1767735000@daredevilbeer.com
SUMMARY:🏀 Cavaliers @ Pacers
DESCRIPTION:
URL:https://daredevilbeer.com/events-single-post-name/%f0%9f%8f%80-cavaliers-pacers-2/
END:VEVENT
BEGIN:VEVENT
DTSTART;TZID=America/Indiana/Indianapolis:20260106T150000
DTEND;TZID=America/Indiana/Indianapolis:20260106T170000
DTSTAMP:20260421T050316
CREATED:20260104T002058Z
LAST-MODIFIED:20260104T002829Z
UID:14088-1767711600-1767718800@daredevilbeer.com
SUMMARY:⚽️ West Ham United v Nottingham Forest
DESCRIPTION:Premier League Matchweek 21 | Follow the game on Matchday Live | #WHUFOR\nWatch Live\nhttps://premlge.co/f/24MBCT/3mwkY\nMatchday Live\nhttps://premlge.co/f/VmBb5/3mwkY\nLatest West Ham United News\nhttps://premlge.co/f/27xzrZ/3mwkY\nFollow the Match on West Ham United X\nhttps://premlge.co/f/27xzs1/3mwkY\nLatest Nottingham Forest News\nhttps://premlge.co/f/27xzs2/3mwkY\nFollow the Match on the Nottingham Forest X\nhttps://premlge.co/f/27xzs3/3mwkY\nManage my ECAL\nhttps://premlge.co/f/TzRLX/3mwkY
URL:https://daredevilbeer.com/events-single-post-name/%e2%9a%bd%ef%b8%8f-west-ham-united-v-nottingham-forest/
LOCATION:London Stadium\, London\, United Kingdom
END:VEVENT
BEGIN:VEVENT
DTSTART;TZID=America/Indiana/Indianapolis:20260104T190000
DTEND;TZID=America/Indiana/Indianapolis:20260104T220000
DTSTAMP:20260421T050316
CREATED:20260104T002055Z
LAST-MODIFIED:20260104T002828Z
UID:14086-1767553200-1767564000@daredevilbeer.com
SUMMARY:🏒 Golden Knights @ Blackhawks
DESCRIPTION:
URL:https://daredevilbeer.com/events-single-post-name/%f0%9f%8f%92-golden-knights-blackhawks/
END:VEVENT
BEGIN:VEVENT
DTSTART;TZID=America/Indiana/Indianapolis:20260104T162500
DTEND;TZID=America/Indiana/Indianapolis:20260104T192500
DTSTAMP:20260421T050316
CREATED:20260104T002053Z
LAST-MODIFIED:20260104T002828Z
UID:14084-1767543900-1767554700@daredevilbeer.com
SUMMARY:🏈 Lions @ Bears
DESCRIPTION:
URL:https://daredevilbeer.com/events-single-post-name/%f0%9f%8f%88-lions-bears/
END:VEVENT
BEGIN:VEVENT
DTSTART;TZID=America/Indiana/Indianapolis:20260104T150000
DTEND;TZID=America/Indiana/Indianapolis:20260104T173000
DTSTAMP:20260421T050316
CREATED:20260104T002054Z
LAST-MODIFIED:20260104T002828Z
UID:14085-1767538800-1767547800@daredevilbeer.com
SUMMARY:🏀 Pacers @ Magic
DESCRIPTION:
URL:https://daredevilbeer.com/events-single-post-name/%f0%9f%8f%80-pacers-magic/
END:VEVENT
BEGIN:VEVENT
DTSTART;TZID=America/Indiana/Indianapolis:20260104T130000
DTEND;TZID=America/Indiana/Indianapolis:20260104T160000
DTSTAMP:20260421T050316
CREATED:20260104T002052Z
LAST-MODIFIED:20260104T002827Z
UID:14083-1767531600-1767542400@daredevilbeer.com
SUMMARY:🏈 Colts @ Texans
DESCRIPTION:
URL:https://daredevilbeer.com/events-single-post-name/%f0%9f%8f%88-colts-texans/
END:VEVENT
BEGIN:VEVENT
DTSTART;TZID=America/Indiana/Indianapolis:20260103T200000
DTEND;TZID=America/Indiana/Indianapolis:20260103T220000
DTSTAMP:20260421T050316
CREATED:20260104T002050Z
LAST-MODIFIED:20260104T002826Z
UID:14082-1767470400-1767477600@daredevilbeer.com
SUMMARY:🏀 Purdue @ Wisconsin
DESCRIPTION:
URL:https://daredevilbeer.com/events-single-post-name/%f0%9f%8f%80-purdue-wisconsin/
END:VEVENT
BEGIN:VEVENT
DTSTART;TZID=America/Indiana/Indianapolis:20260103T190000
DTEND;TZID=America/Indiana/Indianapolis:20260103T220000
DTSTAMP:20260421T050316
CREATED:20251129T235135Z
LAST-MODIFIED:20260104T002827Z
UID:14052-1767466800-1767477600@daredevilbeer.com
SUMMARY:🏒 Blackhawks @ Capitals
DESCRIPTION:
URL:https://daredevilbeer.com/events-single-post-name/%f0%9f%8f%92-blackhawks-capitals/
END:VEVENT
BEGIN:VEVENT
DTSTART;TZID=America/Indiana/Indianapolis:20251228T202000
DTEND;TZID=America/Indiana/Indianapolis:20251228T232000
DTSTAMP:20260421T050316
CREATED:20251108T232130Z
LAST-MODIFIED:20251228T002136Z
UID:14026-1766953200-1766964000@daredevilbeer.com
SUMMARY:🏈 Bears @ 49ers
DESCRIPTION:
URL:https://daredevilbeer.com/events-single-post-name/%f0%9f%8f%88-bears-49ers/
END:VEVENT
BEGIN:VEVENT
DTSTART;TZID=America/Indiana/Indianapolis:20251228T190000
DTEND;TZID=America/Indiana/Indianapolis:20251228T220000
DTSTAMP:20260421T050316
CREATED:20251129T235134Z
LAST-MODIFIED:20251228T002136Z
UID:14051-1766948400-1766959200@daredevilbeer.com
SUMMARY:🏒 Penguins @ Blackhawks
DESCRIPTION:
URL:https://daredevilbeer.com/events-single-post-name/%f0%9f%8f%92-penguins-blackhawks/
END:VEVENT
BEGIN:VEVENT
DTSTART;TZID=America/Indiana/Indianapolis:20251228T130000
DTEND;TZID=America/Indiana/Indianapolis:20251228T160000
DTSTAMP:20260421T050316
CREATED:20251108T232129Z
LAST-MODIFIED:20251228T002136Z
UID:14025-1766926800-1766937600@daredevilbeer.com
SUMMARY:🏈 Jaguars @ Colts
DESCRIPTION:
URL:https://daredevilbeer.com/events-single-post-name/%f0%9f%8f%88-jaguars-colts/
END:VEVENT
BEGIN:VEVENT
DTSTART;TZID=America/Indiana/Indianapolis:20251227T200000
DTEND;TZID=America/Indiana/Indianapolis:20251227T230000
DTSTAMP:20260421T050316
CREATED:20251129T235120Z
LAST-MODIFIED:20251228T002135Z
UID:14050-1766865600-1766876400@daredevilbeer.com
SUMMARY:🏒 Blackhawks @ Stars
DESCRIPTION:
URL:https://daredevilbeer.com/events-single-post-name/%f0%9f%8f%92-blackhawks-stars/
END:VEVENT
BEGIN:VEVENT
DTSTART;TZID=America/Indiana/Indianapolis:20251227T200000
DTEND;TZID=America/Indiana/Indianapolis:20251227T223000
DTSTAMP:20260421T050316
CREATED:20251228T002050Z
LAST-MODIFIED:20251228T002135Z
UID:14076-1766865600-1766874600@daredevilbeer.com
SUMMARY:Pacers @ Heat
DESCRIPTION:
URL:https://daredevilbeer.com/events-single-post-name/pacers-heat/
END:VEVENT
BEGIN:VEVENT
DTSTART;TZID=America/Indiana/Indianapolis:20251224T183000
DTEND;TZID=America/Indiana/Indianapolis:20251224T203000
DTSTAMP:20260421T050316
CREATED:20250308T171500Z
LAST-MODIFIED:20250308T171500Z
UID:13649-1766601000-1766608200@daredevilbeer.com
SUMMARY:Trivia (2nd & 4th Wed of Month)
DESCRIPTION:
URL:https://daredevilbeer.com/events-single-post-name/trivia-2nd-4th-wed-of-month-20/
END:VEVENT
BEGIN:VEVENT
DTSTART;TZID=America/Indiana/Indianapolis:20251220T202000
DTEND;TZID=America/Indiana/Indianapolis:20251220T232000
DTSTAMP:20260421T050316
CREATED:20251221T002049Z
LAST-MODIFIED:20251221T002221Z
UID:14069-1766262000-1766272800@daredevilbeer.com
SUMMARY:🏈  Packers @ Bears
DESCRIPTION:
URL:https://daredevilbeer.com/events-single-post-name/%f0%9f%8f%88-packers-bears/
END:VEVENT
BEGIN:VEVENT
DTSTART;TZID=America/Indiana/Indianapolis:20251220T190000
DTEND;TZID=America/Indiana/Indianapolis:20251220T213000
DTSTAMP:20260421T050316
CREATED:20251101T230714Z
LAST-MODIFIED:20251221T002220Z
UID:14011-1766257200-1766266200@daredevilbeer.com
SUMMARY:🏀 Pacers @ Pelicans
DESCRIPTION:
URL:https://daredevilbeer.com/events-single-post-name/%f0%9f%8f%80-pacers-pelicans/
END:VEVENT
BEGIN:VEVENT
DTSTART;TZID=America/Indiana/Indianapolis:20251220T150000
DTEND;TZID=America/Indiana/Indianapolis:20251220T180000
DTSTAMP:20260421T050316
CREATED:20251129T235119Z
LAST-MODIFIED:20251214T001031Z
UID:14049-1766242800-1766253600@daredevilbeer.com
SUMMARY:🏒 Blackhawks @ Senators
DESCRIPTION:
URL:https://daredevilbeer.com/events-single-post-name/%f0%9f%8f%92-blackhawks-senators/
END:VEVENT
BEGIN:VEVENT
DTSTART;TZID=America/Indiana/Indianapolis:20251218T190000
DTEND;TZID=America/Indiana/Indianapolis:20251218T220000
DTSTAMP:20260421T050316
CREATED:20251129T235118Z
LAST-MODIFIED:20251214T001031Z
UID:14048-1766084400-1766095200@daredevilbeer.com
SUMMARY:🏒 Blackhawks @ Canadiens
DESCRIPTION:
URL:https://daredevilbeer.com/events-single-post-name/%f0%9f%8f%92-blackhawks-canadiens/
END:VEVENT
BEGIN:VEVENT
DTSTART;TZID=America/Indiana/Indianapolis:20251218T190000
DTEND;TZID=America/Indiana/Indianapolis:20251218T213000
DTSTAMP:20260421T050316
CREATED:20251101T230713Z
LAST-MODIFIED:20251214T001031Z
UID:14010-1766084400-1766093400@daredevilbeer.com
SUMMARY:🏀 Knicks @ Pacers
DESCRIPTION:
URL:https://daredevilbeer.com/events-single-post-name/%f0%9f%8f%80-knicks-pacers-2/
END:VEVENT
BEGIN:VEVENT
DTSTART;TZID=America/Indiana/Indianapolis:20251216T190000
DTEND;TZID=America/Indiana/Indianapolis:20251216T220000
DTSTAMP:20260421T050316
CREATED:20251129T235116Z
LAST-MODIFIED:20251214T001030Z
UID:14047-1765911600-1765922400@daredevilbeer.com
SUMMARY:🏒 Blackhawks @ Maple Leafs
DESCRIPTION:
URL:https://daredevilbeer.com/events-single-post-name/%f0%9f%8f%92-blackhawks-maple-leafs/
END:VEVENT
BEGIN:VEVENT
DTSTART;TZID=America/Indiana/Indianapolis:20251214T162500
DTEND;TZID=America/Indiana/Indianapolis:20251214T192500
DTSTAMP:20260421T050316
CREATED:20251108T232128Z
LAST-MODIFIED:20251214T001030Z
UID:14024-1765729500-1765740300@daredevilbeer.com
SUMMARY:🏈 Colts @ Seahawks
DESCRIPTION:
URL:https://daredevilbeer.com/events-single-post-name/%f0%9f%8f%88-colts-seahawks/
END:VEVENT
BEGIN:VEVENT
DTSTART;TZID=America/Indiana/Indianapolis:20251214T130000
DTEND;TZID=America/Indiana/Indianapolis:20251214T160000
DTSTAMP:20260421T050316
CREATED:20251108T232127Z
LAST-MODIFIED:20251214T001030Z
UID:14023-1765717200-1765728000@daredevilbeer.com
SUMMARY:🏈 Browns @ Bears
DESCRIPTION:
URL:https://daredevilbeer.com/events-single-post-name/%f0%9f%8f%88-browns-bears/
END:VEVENT
BEGIN:VEVENT
DTSTART;TZID=America/Indiana/Indianapolis:20251213T200000
DTEND;TZID=America/Indiana/Indianapolis:20251213T230000
DTSTAMP:20260421T050316
CREATED:20251129T235101Z
LAST-MODIFIED:20251214T001029Z
UID:14046-1765656000-1765666800@daredevilbeer.com
SUMMARY:🏒 Red Wings @ Blackhawks
DESCRIPTION:
URL:https://daredevilbeer.com/events-single-post-name/%f0%9f%8f%92-red-wings-blackhawks/
END:VEVENT
BEGIN:VEVENT
DTSTART;TZID=America/Indiana/Indianapolis:20251212T200000
DTEND;TZID=America/Indiana/Indianapolis:20251212T230000
DTSTAMP:20260421T050316
CREATED:20251129T235059Z
LAST-MODIFIED:20251207T000855Z
UID:14045-1765569600-1765580400@daredevilbeer.com
SUMMARY:🏒 Blackhawks @ Blues
DESCRIPTION:
URL:https://daredevilbeer.com/events-single-post-name/%f0%9f%8f%92-blackhawks-blues/
END:VEVENT
BEGIN:VEVENT
DTSTART;TZID=America/Indiana/Indianapolis:20251210T193000
DTEND;TZID=America/Indiana/Indianapolis:20251210T223000
DTSTAMP:20260421T050316
CREATED:20251129T235058Z
LAST-MODIFIED:20251207T000855Z
UID:14044-1765395000-1765405800@daredevilbeer.com
SUMMARY:🏒 Rangers @ Blackhawks
DESCRIPTION:
URL:https://daredevilbeer.com/events-single-post-name/%f0%9f%8f%92-rangers-blackhawks/
END:VEVENT
BEGIN:VEVENT
DTSTART;TZID=America/Indiana/Indianapolis:20251210T183000
DTEND;TZID=America/Indiana/Indianapolis:20251210T203000
DTSTAMP:20260421T050316
CREATED:20250308T171459Z
LAST-MODIFIED:20250308T171459Z
UID:13648-1765391400-1765398600@daredevilbeer.com
SUMMARY:Trivia (2nd & 4th Wed of Month)
DESCRIPTION:
URL:https://daredevilbeer.com/events-single-post-name/trivia-2nd-4th-wed-of-month-19/
END:VEVENT
BEGIN:VEVENT
DTSTART;TZID=America/Indiana/Indianapolis:20251207T130000
DTEND;TZID=America/Indiana/Indianapolis:20251207T160000
DTSTAMP:20260421T050316
CREATED:20251108T232125Z
LAST-MODIFIED:20251207T000855Z
UID:14022-1765112400-1765123200@daredevilbeer.com
SUMMARY:🏈 Colts @ Jaguars
DESCRIPTION:
URL:https://daredevilbeer.com/events-single-post-name/%f0%9f%8f%88-colts-jaguars/
END:VEVENT
BEGIN:VEVENT
DTSTART;TZID=America/Indiana/Indianapolis:20251207T130000
DTEND;TZID=America/Indiana/Indianapolis:20251207T160000
DTSTAMP:20260421T050316
CREATED:20251108T232124Z
LAST-MODIFIED:20251207T000854Z
UID:14021-1765112400-1765123200@daredevilbeer.com
SUMMARY:🏈 Bears @ Packers
DESCRIPTION:
URL:https://daredevilbeer.com/events-single-post-name/%f0%9f%8f%88-bears-packers/
END:VEVENT
BEGIN:VEVENT
DTSTART;TZID=America/Indiana/Indianapolis:20251205T200000
DTEND;TZID=America/Indiana/Indianapolis:20251205T223000
DTSTAMP:20260421T050316
CREATED:20251101T230712Z
LAST-MODIFIED:20251129T235554Z
UID:14009-1764964800-1764973800@daredevilbeer.com
SUMMARY:🏀 Pacers @ Bulls
DESCRIPTION:
URL:https://daredevilbeer.com/events-single-post-name/%f0%9f%8f%80-pacers-bulls/
END:VEVENT
END:VCALENDAR